View In:
ArcGIS JavaScript
ArcGIS Online Map Viewer
ArcGIS Earth
Service Description: osby_grunddata_ortofoto/Ortofoto_Osby_tätorter_2023_WMS
Name: osby_grunddata_ortofoto/Ortofoto_Osby_tätorter_2023_WMS
Description:
Single Fused Map Cache: false
Extent:
XMin: 171000.00708799995
YMin: 6247000.009228034
XMax: 202000.00708799995
YMax: 6266000.009228034
Spatial Reference: 3008
(3008)
LatestVCSWkid(0)
Initial Extent:
XMin: 171000.00708799995
YMin: 6247000.009228034
XMax: 202000.00708799995
YMax: 6266000.009228034
Spatial Reference: 3008
(3008)
LatestVCSWkid(0)
Full Extent:
XMin: 171000.00708799995
YMin: 6247000.009228034
XMax: 202000.00708799995
YMax: 6266000.009228034
Spatial Reference: 3008
(3008)
LatestVCSWkid(0)
Pixel Size X: 0.08
Pixel Size Y: 0.08
Band Count: 3
Pixel Type: U8
RasterFunction Infos: {"rasterFunctionInfos": [{
"name": "None",
"description": "",
"help": ""
}]}
Mensuration Capabilities: Basic
Inspection Capabilities:
Has Histograms: true
Has Colormap: false
Has Multi Dimensions : false
Rendering Rule:
Min Scale: 0
Max Scale: 0
Copyright Text:
Service Data Type: esriImageServiceDataTypeRGB
Min Values: 2, 2, 2
Max Values: 245, 245, 245
Mean Values: 103.88841462613334, 104.08753881135907, 100.91222882812008
Standard Deviation Values: 43.13334688886666, 41.41947217133056, 40.36288445150811
Object ID Field:
Fields:
None
Default Mosaic Method: Center
Allowed Mosaic Methods:
SortField:
SortValue: null
Mosaic Operator: First
Default Compression Quality: 75
Default Resampling Method: Bilinear
Max Record Count: null
Max Image Height: 4100
Max Image Width: 15000
Max Download Image Count: null
Max Mosaic Image Count: null
Allow Raster Function: true
Allow Copy: true
Allow Analysis: true
Allow Compute TiePoints: false
Supports Statistics: false
Supports Advanced Queries: false
Use StandardizedQueries: true
Raster Type Infos:
Name: Raster Dataset
Description: Supports all ArcGIS Raster Datasets
Help:
Has Raster Attribute Table: false
Edit Fields Info: null
Ownership Based AccessControl For Rasters: null
Child Resources:
Info
Histograms
Statistics
Key Properties
Legend
Raster Function Infos
Supported Operations:
Export Image
Identify
Measure
Compute Histograms
Compute Statistics Histograms
Get Samples
Compute Class Statistics
Query Boundary
Compute Pixel Location
Compute Angles
Validate
Project