View In:
ArcGIS JavaScript
ArcGIS Online Map Viewer
ArcGIS Earth
Service Description: osby_grunddata_ortofoto/Ortofoto_2025_tätorter
Name: osby_grunddata_ortofoto/Ortofoto_2025_tätorter
Description:
Single Fused Map Cache: false
Extent:
XMin: 170999.99999790452
YMin: 6247000.000081957
XMax: 201999.99999068677
YMax: 6266000.000011141
Spatial Reference: 3008
(3008)
LatestVCSWkid(0)
Initial Extent:
XMin: 170999.99999790452
YMin: 6247000.000081957
XMax: 201999.99999068677
YMax: 6266000.000011141
Spatial Reference: 3008
(3008)
LatestVCSWkid(0)
Full Extent:
XMin: 170999.99999790452
YMin: 6247000.000081957
XMax: 201999.99999068677
YMax: 6266000.000011141
Spatial Reference: 3008
(3008)
LatestVCSWkid(0)
Pixel Size X: 0.04999999998835847
Pixel Size Y: 0.04999999981364235
Band Count: 3
Pixel Type: U8
RasterFunction Infos: {"rasterFunctionInfos": [{
"name": "None",
"description": "",
"help": ""
}]}
Mensuration Capabilities: Basic
Inspection Capabilities:
Has Histograms: true
Has Colormap: false
Has Multi Dimensions : false
Rendering Rule:
Min Scale: 0
Max Scale: 0
Copyright Text:
Service Data Type: esriImageServiceDataTypeRGB
Min Values: 2, 2, 2
Max Values: 253, 253, 253
Mean Values: 89.592084791462, 88.46836947497093, 72.80027324859607
Standard Deviation Values: 42.22524527559722, 38.14628965528992, 34.51191373641253
Object ID Field:
Fields:
None
Default Mosaic Method: Center
Allowed Mosaic Methods:
SortField:
SortValue: null
Mosaic Operator: First
Default Compression Quality: 75
Default Resampling Method: Bilinear
Max Record Count: null
Max Image Height: 4100
Max Image Width: 15000
Max Download Image Count: null
Max Mosaic Image Count: null
Allow Raster Function: true
Allow Copy: true
Allow Analysis: true
Allow Compute TiePoints: false
Supports Statistics: false
Supports Advanced Queries: false
Use StandardizedQueries: true
Raster Type Infos:
Name: Raster Dataset
Description: Supports all ArcGIS Raster Datasets
Help:
Has Raster Attribute Table: false
Edit Fields Info: null
Ownership Based AccessControl For Rasters: null
Child Resources:
Info
Histograms
Statistics
Key Properties
Legend
Raster Function Infos
Supported Operations:
Export Image
Identify
Measure
Compute Histograms
Compute Statistics Histograms
Get Samples
Compute Class Statistics
Query Boundary
Compute Pixel Location
Compute Angles
Validate
Project